BEGIN:VCALENDAR
VERSION:2.0
PRODID:-//OmniMagnetCalendar//EN
BEGIN:VEVENT
DTSTAMP:20190625T195740Z
STATUS:CONFIRMED
UID:hcireland.clubs.harvard.edu211
DTSTART:20201118T170000Z
DTEND:20201118T180000Z
LOCATION:Virtual,
SUMMARY:Allyship Series: Leadership in Practice, A Conversation with Kevin Jennings
DESCRIPTION: In this next Allyship event, we are honored to be joined by Kevin Jennings ’85. Kevin has been a leader of and an advocate for LGBTQ people for his entire career as his bio below will attest
BEGIN:VALARM
TRIGGER:-PT15M
ACTION:DISPLAY
END:VALARM
TRANSP:OPAQUE
END:VEVENT
END:VCALENDAR
